BEGIN:VCALENDAR
VERSION:2.0
PRODID:-//pretix//pretix.eu//
BEGIN:VTIMEZONE
TZID:Europe/Berlin
BEGIN:STANDARD
DTSTART:20001029T040000
RRULE:FREQ=YEARLY;BYDAY=-1SU;BYMONTH=10
TZNAME:CET
TZOFFSETFROM:+0200
TZOFFSETTO:+0100
END:STANDARD
BEGIN:DAYLIGHT
DTSTART:20000326T030000
RRULE:FREQ=YEARLY;BYDAY=-1SU;BYMONTH=3
TZNAME:CEST
TZOFFSETFROM:+0100
TZOFFSETTO:+0200
END:DAYLIGHT
END:VTIMEZONE
BEGIN:VEVENT
UID:pretix-jungepresseberlin-on-aktivismus-0@tickets.jpb.de
DTSTART;TZID=Europe/Berlin:20251020T150000
DTEND;TZID=Europe/Berlin:20251020T160000
DESCRIPTION:Tickets: https://tickets.jpb.de/on-aktivismus/\nVeranstalter: J
 ugendpresse Berlin-Brandenburg e.V.
DTSTAMP:20260421T094440Z
LOCATION:Online
SUMMARY:Online-Workshop: Aktivistische Fotografie & Storytelling für Onlin
 e-Aktivismus
END:VEVENT
END:VCALENDAR
